BEGIN:VCALENDAR
PRODID:-//kirchenweb.ch gmbh//veranstaltungsausgabe v2.0//DE
VERSION:2.0
METHOD:PUBLISH
BEGIN:VEVENT
DTSTART:20260427T053000Z
DTEND:20260427T061500Z
LOCATION:Mesmerhuus\, Kloster 14\, 8224 Löhningen
TRANSP:OPAQUE
SEQUENCE:0
UID:184489-veranstaltung@ref-sh.ch
DTSTAMP:20250625T205314Z
DESCRIPTION:Kontakt: Anita Bischof\n\nWeitere Infos:
  https://www.ref-sh.ch/veranstaltung/184489
SUMMARY:3.-Klass-Unterricht
PRIORITY:5
X-MICROSOFT-CDO-IMPORTANCE:1
CLASS:PUBLIC
END:VEVENT
END:VCALENDAR
