BEGIN:VCALENDAR
PRODID:-//kirchenweb.ch gmbh//veranstaltungsausgabe v2.0//DE
VERSION:2.0
METHOD:PUBLISH
BEGIN:VEVENT
DTSTART:20260507T133000Z
DTEND:20260507T150000Z
LOCATION:Mesmerhuus\, Kloster 14\, 8224 Löhningen
TRANSP:OPAQUE
SEQUENCE:0
UID:184438-veranstaltung@ref-sh.ch
DTSTAMP:20250625T204513Z
DESCRIPTION:Kontakt: Anita Bischof\n\nWeitere Infos:
  https://www.ref-sh.ch/veranstaltung/184438
SUMMARY:5.-Klass-Unterricht
PRIORITY:5
X-MICROSOFT-CDO-IMPORTANCE:1
CLASS:PUBLIC
END:VEVENT
END:VCALENDAR
