BEGIN:VCALENDAR
PRODID:-//kirchenweb.ch gmbh//veranstaltungsausgabe v2.0//DE
VERSION:2.0
METHOD:PUBLISH
BEGIN:VEVENT
DTSTART:20260630T133000Z
DTEND:20260630T150000Z
LOCATION:Kirchgemeindehaus Beringen\, Steig 2\, 8222 Beringen
TRANSP:OPAQUE
SEQUENCE:0
UID:184423-veranstaltung@ref-sh.ch
DTSTAMP:20250822T072334Z
DESCRIPTION:Kontakt: Anita Bischof\n\nWeitere Infos:
  https://www.ref-sh.ch/veranstaltung/184423
SUMMARY:5.-Klass-Unterricht
PRIORITY:5
X-MICROSOFT-CDO-IMPORTANCE:1
CLASS:PUBLIC
END:VEVENT
END:VCALENDAR
