BEGIN:VCALENDAR
PRODID:-//kirchenweb.ch gmbh//veranstaltungsausgabe v2.0//DE
VERSION:2.0
METHOD:PUBLISH
BEGIN:VEVENT
DTSTART:20261225T090000Z
DTEND:20261225T100000Z
LOCATION:Kirche\, Kirchstrasse 8\, 8214 Gächlingen
TRANSP:OPAQUE
SEQUENCE:0
UID:184320-veranstaltung@ref-sh.ch
DTSTAMP:20260331T054658Z
DESCRIPTION:Am Weihnachtstag feiern wir die Geburt von Jesus Christus:
  Gott hat sich klein gemacht und ist in unsere Welt gekommen.\n
 \nhttps://www.ref-sh.ch/_kirchenweb/?g=gaechlingen-gottesdienstprogramm\n
 \nKontakt: Werner Näf\n\nWeitere Infos:
  https://www.ref-sh.ch/veranstaltung/184320
SUMMARY:Weihachtsgottesdienst mit Abendmahl
PRIORITY:5
X-MICROSOFT-CDO-IMPORTANCE:1
CLASS:PUBLIC
END:VEVENT
END:VCALENDAR
