BEGIN:VCALENDAR
PRODID:-//kirchenweb.ch gmbh//veranstaltungsausgabe v2.0//DE
VERSION:2.0
METHOD:PUBLISH
BEGIN:VEVENT
DTSTART:20261220T160000Z
DTEND:20261220T170000Z
LOCATION:Kirche\, Kirchstrasse 8\, 8214 Gächlingen
TRANSP:OPAQUE
SEQUENCE:0
UID:184318-veranstaltung@ref-sh.ch
DTSTAMP:20260203T175257Z
DESCRIPTION:Kontakt: Marianne Näf-Bräker\n\nWeitere Infos:
  https://www.ref-sh.ch/veranstaltung/184318
SUMMARY:Gemeinde-Weihnachtsfeier für Gross und Klein
PRIORITY:5
X-MICROSOFT-CDO-IMPORTANCE:1
CLASS:PUBLIC
END:VEVENT
END:VCALENDAR
