BEGIN:VCALENDAR
PRODID:-//kirchenweb.ch gmbh//veranstaltungsausgabe v2.0//DE
VERSION:2.0
METHOD:PUBLISH
BEGIN:VEVENT
DTSTART:20261122T100000Z
DTEND:20261122T110000Z
LOCATION:Turnhalle Gächlingen\, Schulgasse 9\, 8214 Gächlingen
TRANSP:OPAQUE
SEQUENCE:0
UID:184315-veranstaltung@ref-sh.ch
DTSTAMP:20260126T111705Z
DESCRIPTION:Gottesdienst für Gross und Klein zum Kirchgemeindesonntag\n\n
 \n\nKontakt: Werner Näf\n\nWeitere Infos:
  https://www.ref-sh.ch/veranstaltung/184315
SUMMARY:Gottesdienst zum Gemeindesonntag mit Bazar für Gross und Klein
PRIORITY:5
X-MICROSOFT-CDO-IMPORTANCE:1
CLASS:PUBLIC
END:VEVENT
END:VCALENDAR
