BEGIN:VCALENDAR
PRODID:-//kirchenweb.ch gmbh//veranstaltungsausgabe v2.0//DE
VERSION:2.0
METHOD:PUBLISH
BEGIN:VEVENT
DTSTART:20261108T090000Z
DTEND:20261108T100000Z
LOCATION:Kirche\, Kirchstrasse 8\, 8214 Gächlingen
TRANSP:OPAQUE
SEQUENCE:0
UID:184314-veranstaltung@ref-sh.ch
DTSTAMP:20251213T144818Z
DESCRIPTION:In diesem Gottesdienst denken wir an alle\, die im letzten
  Kirchenjahr verstorben sind. \n
 \nhttps://www.ref-sh.ch/_kirchenweb/?g=gaechlingen-gottesdienstprogramm\n
 \n\n\nKontakt: Werner Näf\n\nWeitere Infos:
  https://www.ref-sh.ch/veranstaltung/184314
SUMMARY:Gottesdienst mit Gedenken an die Verstorbenen
PRIORITY:5
X-MICROSOFT-CDO-IMPORTANCE:1
CLASS:PUBLIC
END:VEVENT
END:VCALENDAR
