BEGIN:VCALENDAR
PRODID:-//kirchenweb.ch gmbh//veranstaltungsausgabe v2.0//DE
VERSION:2.0
METHOD:PUBLISH
BEGIN:VEVENT
DTSTART:20260830T090000Z
DTEND:20260830T100000Z
LOCATION:Kirche\, Kirchstrasse 8\, 8214 Gächlingen
TRANSP:OPAQUE
SEQUENCE:0
UID:184309-veranstaltung@ref-sh.ch
DTSTAMP:20260403T130310Z
DESCRIPTION:Gottesdienst in lockerer Atmosphäre\, mit Band\,
  Kreativteil\, Input\, offene Phase mit Abendmahl und anderen Angeboten\n
 \nWas ist die Kafi-Chile?
  https://www.ref-gaechlingen.ch/kafi-chile-gaechlingen\n
 \nhttps://www.ref-sh.ch/_kirchenweb/?g=kafi-chile-programm\n\nKontakt:
  Jugendarbeiter Sebastian Ebi\n\nWeitere Infos:
  https://www.ref-sh.ch/veranstaltung/184309
SUMMARY:Kafi-Chile: Gottesdienst
PRIORITY:5
X-MICROSOFT-CDO-IMPORTANCE:1
CLASS:PUBLIC
END:VEVENT
END:VCALENDAR
