BEGIN:VCALENDAR
PRODID:-//kirchenweb.ch gmbh//veranstaltungsausgabe v2.0//DE
VERSION:2.0
METHOD:PUBLISH
BEGIN:VEVENT
DTSTART:20260621T090000Z
DTEND:20260621T100000Z
LOCATION:Kirche\, Kirchstrasse 8\, 8214 Gächlingen
TRANSP:OPAQUE
SEQUENCE:0
UID:184305-veranstaltung@ref-sh.ch
DTSTAMP:20260403T130013Z
DESCRIPTION:Kontakt: Werner Näf\n\nWeitere Infos:
  https://www.ref-sh.ch/veranstaltung/184305
SUMMARY:Gottesdienst am kantonalen Musiktag\, zeit noch unklar
PRIORITY:5
X-MICROSOFT-CDO-IMPORTANCE:1
CLASS:PUBLIC
END:VEVENT
END:VCALENDAR
