BEGIN:VCALENDAR
PRODID:-//kirchenweb.ch gmbh//veranstaltungsausgabe v2.0//DE
VERSION:2.0
METHOD:PUBLISH
BEGIN:VEVENT
DTSTART:20260419T080000Z
DTEND:20260419T090000Z
LOCATION:Kirche\, Kirchstrasse 8\, 8214 Gächlingen
TRANSP:OPAQUE
SEQUENCE:0
UID:184299-veranstaltung@ref-sh.ch
DTSTAMP:20260419T111915Z
DESCRIPTION:Gottesdienst zum Start der Kinderwoche\n
 \nhttps://www.ref-sh.ch/_kirchenweb/?g=gaechlingen-gottesdienstprogramm\n
 \nKontakt: Team der Kirchgemeinde\n\nWeitere Infos:
  https://www.ref-sh.ch/veranstaltung/184299
SUMMARY:Gottesdienst für Gross und Klein\, für Jung und Alt
PRIORITY:5
X-MICROSOFT-CDO-IMPORTANCE:1
CLASS:PUBLIC
END:VEVENT
END:VCALENDAR
