BEGIN:VCALENDAR
PRODID:-//kirchenweb.ch gmbh//veranstaltungsausgabe v2.0//DE
VERSION:2.0
METHOD:PUBLISH
BEGIN:VEVENT
DTSTART:20260429T113000Z
DTEND:20260429T140000Z
LOCATION:Pfarrhaus Münster\, \,
TRANSP:OPAQUE
SEQUENCE:0
UID:184188-veranstaltung@ref-sh.ch
DTSTAMP:20250701T150845Z
DESCRIPTION:Kontakt: gabriela.fahrni@ref-sh.ch\n\nWeitere Infos:
  https://www.ref-sh.ch/veranstaltung/184188
SUMMARY:Religionsunterricht Viertklässler
PRIORITY:5
X-MICROSOFT-CDO-IMPORTANCE:1
CLASS:PUBLIC
END:VEVENT
END:VCALENDAR
