BEGIN:VCALENDAR
PRODID:-//kirchenweb.ch gmbh//veranstaltungsausgabe v2.0//DE
VERSION:2.0
METHOD:PUBLISH
BEGIN:VEVENT
DTSTART:20260430T161500Z
DTEND:20260430T174500Z
LOCATION:Kirchgemeindehaus Beringen\, Steig 2\, 8222 Beringen
TRANSP:OPAQUE
SEQUENCE:0
UID:184172-veranstaltung@ref-sh.ch
DTSTAMP:20250619T143952Z
DESCRIPTION:Kontakt: Pfarrerin Jutta Schenk\n\nWeitere Infos:
  https://www.ref-sh.ch/veranstaltung/184172
SUMMARY:9.Klass-Unterricht
PRIORITY:5
X-MICROSOFT-CDO-IMPORTANCE:1
CLASS:PUBLIC
END:VEVENT
END:VCALENDAR
