BEGIN:VCALENDAR
PRODID:-//kirchenweb.ch gmbh//veranstaltungsausgabe v2.0//DE
VERSION:2.0
METHOD:PUBLISH
BEGIN:VEVENT
DTSTART:20331122T190000Z
DTEND:20331122T210000Z
LOCATION:KGH Trüllenbuck\, Trüllenbuck 61\, 8207 Schaffhausen
TRANSP:OPAQUE
SEQUENCE:0
UID:184127-veranstaltung@ref-sh.ch
DTSTAMP:20251117T131347Z
DESCRIPTION:Konzert der Tambouren\n\ndie zwei Musikblöcke werden
  gestaltet von den  SchülerInnen\, der Sektion Tamoburenverein
  Schaffhausen und der "Alte Garde"\, dazwischen gibt es z'Trinken und
  Essen\n\nLeitung: Peter Keller\n\nkein Eintritt - Kollekte\n\n\n
 \nKontakt: Käthi Keller\nBuchthalerstr. 168\n8203 Schaffhausen\n\nWeitere
  Infos: https://www.ref-sh.ch/veranstaltung/184127
SUMMARY:öffentliches Konzert des Tambourenverein Schaffhausen
PRIORITY:5
X-MICROSOFT-CDO-IMPORTANCE:1
CLASS:PUBLIC
END:VEVENT
END:VCALENDAR
