BEGIN:VCALENDAR
PRODID:-//kirchenweb.ch gmbh//veranstaltungsausgabe v2.0//DE
VERSION:2.0
METHOD:PUBLISH
BEGIN:VEVENT
DTSTART:20251121T140000Z
DTEND:20251121T160000Z
LOCATION:Kirchgemeindehaus \, \,
TRANSP:OPAQUE
SEQUENCE:0
UID:183866-veranstaltung@ref-sh.ch
DTSTAMP:20251212T075027Z
DESCRIPTION:Ob ich will oder nicht\, ich werde alt. \n\nKontakt: Pfrn.
  Nyree Heckmann\n\nWeitere Infos:
  https://www.ref-sh.ch/veranstaltung/183866
SUMMARY:Café Dialogue
PRIORITY:5
X-MICROSOFT-CDO-IMPORTANCE:1
CLASS:PUBLIC
END:VEVENT
END:VCALENDAR
