BEGIN:VCALENDAR
PRODID:-//kirchenweb.ch gmbh//veranstaltungsausgabe v2.0//DE
VERSION:2.0
METHOD:PUBLISH
BEGIN:VEVENT
DTSTART:20250823T170000Z
DTEND:20250823T180000Z
LOCATION:Kirche Löhningen\, Kloster 3\, 8224 Löhningen
TRANSP:OPAQUE
SEQUENCE:0
UID:183851-veranstaltung@ref-sh.ch
DTSTAMP:20250828T143441Z
DESCRIPTION:110. SamGo Löhningen\, der Jugendgottesdienst für Teenager
  von 5. bis 9. Klasse\, mit Lukas Huber.\n\nAnschliessend «Check-in» im
  Mesmerhuus.\n\nKontakt: Pfarrer Lukas Huber\n\nWeitere Infos:
  https://www.ref-sh.ch/veranstaltung/183851
SUMMARY:SamGo Löhningen
PRIORITY:5
X-MICROSOFT-CDO-IMPORTANCE:1
CLASS:PUBLIC
END:VEVENT
END:VCALENDAR
