BEGIN:VCALENDAR
PRODID:-//kirchenweb.ch gmbh//veranstaltungsausgabe v2.0//DE
VERSION:2.0
METHOD:PUBLISH
BEGIN:VEVENT
DTSTART:20250917T090000Z
DTEND:20250917T120000Z
LOCATION:Ev.ref. Kirchgemeindehaus\, Bahnhofstrasse 274a\, 8262 Ramsen
TRANSP:OPAQUE
SEQUENCE:0
UID:183805-veranstaltung@ref-sh.ch
DTSTAMP:20250607T054558Z
DESCRIPTION:Kontakt: Rita\n\nWeitere Infos:
  https://www.ref-sh.ch/veranstaltung/183805
SUMMARY:Mini-Leiter Kolibri
PRIORITY:5
X-MICROSOFT-CDO-IMPORTANCE:1
CLASS:PUBLIC
END:VEVENT
END:VCALENDAR
