BEGIN:VCALENDAR
PRODID:-//kirchenweb.ch gmbh//veranstaltungsausgabe v2.0//DE
VERSION:2.0
METHOD:PUBLISH
BEGIN:VEVENT
DTSTART:20250919T153000Z
DTEND:20250919T161500Z
LOCATION:Reformierte Kirche Thayngen\, \,
TRANSP:OPAQUE
SEQUENCE:0
UID:183757-veranstaltung@ref-sh.ch
DTSTAMP:20250820T070551Z
DESCRIPTION:Kontakt: J. Will\n\nWeitere Infos:
  https://www.ref-sh.ch/veranstaltung/183757
SUMMARY:Punkt 6 Jugendgottesdienst
PRIORITY:5
X-MICROSOFT-CDO-IMPORTANCE:1
CLASS:PUBLIC
END:VEVENT
END:VCALENDAR
