BEGIN:VCALENDAR
PRODID:-//kirchenweb.ch gmbh//veranstaltungsausgabe v2.0//DE
VERSION:2.0
METHOD:PUBLISH
BEGIN:VEVENT
DTSTART:20251012T074500Z
DTEND:20251012T084500Z
LOCATION:Reformierte Kirche Thayngen\, Kirchplatz 2\, 8240 Thayngen
TRANSP:OPAQUE
SEQUENCE:0
UID:183584-veranstaltung@ref-sh.ch
DTSTAMP:20251011T130613Z
DESCRIPTION:Kontakt: Pfr. Friederich Hahler\n\nWeitere Infos:
  https://www.ref-sh.ch/veranstaltung/183584
SUMMARY:Kein Gottesdienst (Absage wegen Krankheit)
PRIORITY:5
X-MICROSOFT-CDO-IMPORTANCE:1
CLASS:PUBLIC
END:VEVENT
END:VCALENDAR
