BEGIN:VCALENDAR
PRODID:-//kirchenweb.ch gmbh//veranstaltungsausgabe v2.0//DE
VERSION:2.0
METHOD:PUBLISH
BEGIN:VEVENT
DTSTART:20250928T074500Z
DTEND:20250928T084500Z
LOCATION:Kirche Opfertshofen\, Dorfstrasse 12\, 8236 Opfertshofen
TRANSP:OPAQUE
SEQUENCE:0
UID:183582-veranstaltung@ref-sh.ch
DTSTAMP:20250926T170634Z
DESCRIPTION:anschliessend Gemeindemittagessen\n\nKontakt: J. Liebmann\n
 \nWeitere Infos: https://www.ref-sh.ch/veranstaltung/183582
SUMMARY:Gottesdienst in Opfertshofen
PRIORITY:5
X-MICROSOFT-CDO-IMPORTANCE:1
CLASS:PUBLIC
END:VEVENT
END:VCALENDAR
