BEGIN:VCALENDAR
PRODID:-//kirchenweb.ch gmbh//veranstaltungsausgabe v2.0//DE
VERSION:2.0
METHOD:PUBLISH
BEGIN:VEVENT
DTSTART:20250921T080000Z
DTEND:20250921T090000Z
LOCATION:Reformierte Kirche Thayngen\, Kirchplatz 2\, 8240 Thayngen
TRANSP:OPAQUE
SEQUENCE:0
UID:183581-veranstaltung@ref-sh.ch
DTSTAMP:20250920T173707Z
DESCRIPTION:Pfarrer Jürgen Will\, Kaplan Boris Schlüssel\nGottesdienst
  mit unseren kath. Mitchristen\nKirchenchor Opfertshofen\nAbendmahl
 \nApéro\n\nKontakt: Jürgen Will\n\nWeitere Infos:
  https://www.ref-sh.ch/veranstaltung/183581
SUMMARY:Dank-Buss- und Bettag-Gottesdienst Thayngen
PRIORITY:5
X-MICROSOFT-CDO-IMPORTANCE:1
CLASS:PUBLIC
END:VEVENT
END:VCALENDAR
