BEGIN:VCALENDAR
PRODID:-//kirchenweb.ch gmbh//veranstaltungsausgabe v2.0//DE
VERSION:2.0
METHOD:PUBLISH
BEGIN:VEVENT
DTSTART:20250914T073000Z
DTEND:20250914T083000Z
LOCATION:Reformierte Kirche Lohn\, Vorderdorf\, 8235 Lohn
TRANSP:OPAQUE
SEQUENCE:0
UID:183580-veranstaltung@ref-sh.ch
DTSTAMP:20250912T085624Z
DESCRIPTION:Gottesdienst mit Infos zur Päckliatkion und anschliessendem
  Kirchenkaffee\n\nKontakt: corina.jaeggi@ref-sh.ch\n\nWeitere Infos:
  https://www.ref-sh.ch/veranstaltung/183580
SUMMARY:Gottesdienst ref. Kirche Lohn
PRIORITY:5
X-MICROSOFT-CDO-IMPORTANCE:1
CLASS:PUBLIC
END:VEVENT
END:VCALENDAR
