BEGIN:VCALENDAR
PRODID:-//kirchenweb.ch gmbh//veranstaltungsausgabe v2.0//DE
VERSION:2.0
METHOD:PUBLISH
BEGIN:VEVENT
DTSTART:20250907T074500Z
DTEND:20250907T084500Z
LOCATION:Reformierte Kirche Thayngen\, Kirchplatz 2\, 8240 Thayngen
TRANSP:OPAQUE
SEQUENCE:0
UID:183579-veranstaltung@ref-sh.ch
DTSTAMP:20250711T142702Z
DESCRIPTION:Pfarrerin Heidrun Werder\nApéro\nKirchenchor Opfertshofen\n
 \nKontakt: Heidrun Werder\n\nWeitere Infos:
  https://www.ref-sh.ch/veranstaltung/183579
SUMMARY:Erntedank- und Abschieds-Gottesdienst Heidrun Werder
PRIORITY:5
X-MICROSOFT-CDO-IMPORTANCE:1
CLASS:PUBLIC
END:VEVENT
END:VCALENDAR
