BEGIN:VCALENDAR
PRODID:-//kirchenweb.ch gmbh//veranstaltungsausgabe v2.0//DE
VERSION:2.0
METHOD:PUBLISH
BEGIN:VEVENT
DTSTART:20260426T080000Z
DTEND:20260426T090000Z
LOCATION:Kirche Lohn\, Vorderdorf\, 8235 Lohn
TRANSP:OPAQUE
SEQUENCE:0
UID:183308-veranstaltung@ref-sh.ch
DTSTAMP:20260205T115759Z
DESCRIPTION:Konfirmationsgottesdienst\nanschliessend Apéro im
  Pfarrhaussaal\n\nKontakt: Andreas Werder\n\nWeitere Infos:
  https://www.ref-sh.ch/veranstaltung/183308
SUMMARY:Konfirmationsgottesdienst
PRIORITY:5
X-MICROSOFT-CDO-IMPORTANCE:1
CLASS:PUBLIC
END:VEVENT
END:VCALENDAR
