BEGIN:VCALENDAR
PRODID:-//kirchenweb.ch gmbh//veranstaltungsausgabe v2.0//DE
VERSION:2.0
METHOD:PUBLISH
BEGIN:VEVENT
DTSTART;VALUE=DATE:20250714
DTEND;VALUE=DATE:20250715
LOCATION:Zwinglikirche\, Hochstrasse 202\, 8200 Schaffhausen
TRANSP:OPAQUE
SEQUENCE:0
UID:183261-veranstaltung@ref-sh.ch
DTSTAMP:20250520T153017Z
DESCRIPTION:Montag keine Abdankung\n\nKontakt: Pfrn. Miriam Gehrke / Pfr.
  Wolfram Kötter\n\nWeitere Infos:
  https://www.ref-sh.ch/veranstaltung/183261
SUMMARY:Amtswoche
PRIORITY:5
X-MICROSOFT-CDO-IMPORTANCE:1
CLASS:PUBLIC
END:VEVENT
END:VCALENDAR
