BEGIN:VCALENDAR
PRODID:-//kirchenweb.ch gmbh//veranstaltungsausgabe v2.0//DE
VERSION:2.0
METHOD:PUBLISH
BEGIN:VEVENT
DTSTART:20260530T100000Z
DTEND:20260530T110000Z
LOCATION:Münster\, Münsterplatz\, 8200 Schaffhausen
TRANSP:OPAQUE
SEQUENCE:0
UID:183242-veranstaltung@ref-sh.ch
DTSTAMP:20251208T125707Z
DESCRIPTION:Kontakt: Pfarrer Roland Diethelm\n\nWeitere Infos:
  https://www.ref-sh.ch/veranstaltung/183242
SUMMARY:Traugottesdienst Björn Lengsfeld und Sonja Töller
PRIORITY:5
X-MICROSOFT-CDO-IMPORTANCE:1
CLASS:PUBLIC
END:VEVENT
END:VCALENDAR
