BEGIN:VCALENDAR
PRODID:-//kirchenweb.ch gmbh//veranstaltungsausgabe v2.0//DE
VERSION:2.0
METHOD:PUBLISH
BEGIN:VEVENT
DTSTART:20260419T150000Z
DTEND:20260419T160000Z
LOCATION:St.Johann\, Kirchhofplatz\, 8200 Schaffhausen
TRANSP:OPAQUE
SEQUENCE:0
UID:183199-veranstaltung@ref-sh.ch
DTSTAMP:20260418T215854Z
DESCRIPTION:Konstantin Volostnov stellt sein Konzert unter den Titel
  Grosser Stil der Orgelmusik. So beginnt er auch mit einem Werk von Bach\,
  allerdings nicht mit einem originalen Orgelwerk\, sondern mit einer
  Bearbeitung der berühmten und ergreifenden Ciaccona d-Moll aus der
  zweiten Violinpartita. Dieses gewichtige Werk erklingt schon zum dritten
  Mal in unserer Konzertreihe\, aber wieder in einer anderen Bearbeitung\,
  dieses Mal von Alexei Shmitov. Man darf gespannt sein.\nAls ruhiger
  Gegenpol zum aufwühlenden Bach erklingt das Cantabile von César Franck.
  Die nun folgende Phantasie und Fuge d-Moll op. 135b von Max Reger gehört
  zu seinen letzten grossen freien Orgelwerken. Auf die Phantasie\, welche
  noch den Geist Brahms' atmet\, sein Klavierkonzert sogar zitiert\, folgt
  eine Doppelfuge\, die\, wie bei Reger üblich\, zu einem mitreissenden
  Strom wird und in der vollen Orgel grandios endet. Das Konzert
  beschliesst Volostnov mit Bearbeitungen aus den Arlésienne Suiten von
  Georges Bizet. Musik mit einem grossen Wiedererkennungswert\, welche auch
  auf der Orgel ihre Pracht zu entfalten weiss.\n\nWeitere Details zum
  Programm entnehmen Sie bitte unserer https://www.orgelkonzerte-sh.ch/.\n
 \nEintritt frei - Kollekte\n\nKontakt: Andreas Jud\n\nWeitere Infos:
  https://www.ref-sh.ch/veranstaltung/183199
SUMMARY:Orgelkonzert Konstantin Volostnov
PRIORITY:5
X-MICROSOFT-CDO-IMPORTANCE:1
CLASS:PUBLIC
END:VEVENT
END:VCALENDAR
