BEGIN:VCALENDAR
PRODID:-//kirchenweb.ch gmbh//veranstaltungsausgabe v2.0//DE
VERSION:2.0
METHOD:PUBLISH
BEGIN:VEVENT
DTSTART;VALUE=DATE:20250622
DTEND;VALUE=DATE:20250623
LOCATION:Kollektenbeschrieb\, \,
TRANSP:OPAQUE
SEQUENCE:0
UID:183005-veranstaltung@ref-sh.ch
DTSTAMP:20260102T105904Z
DESCRIPTION:AUSNAHMSWEISE 2025 eine Woche später am 22.6.2025\nHEKS
  Flüchtlingssammlung (K 9811)	\nJeden Tag engagieren sich in der Schweiz
  viele Menschen ehrenamtlich für Geflüchtete. Sie helfen ihnen Deutsch
  zu lernen\, sich im Alltag zurechtzufinden oder unterstützen ihre Kinder
  bei den Hausaufgaben. Diese Freiwilligeneinsätze sind sehr wertvoll –
  sowohl für die Geflüchteten als auch für unsere Gesellschaft. Für
  beide Seiten sind diese Begegnungen eine grosse Bereicherung. Das
  Hilfswerk der Evangelischen Kirche Schweiz\, HEKS setzt sich für solche
  Begegnungen ein und trägt so bei zu einer gelingenden Integration.\nDas
  HEKS setzt sich ebenso für Flüchtlingslagern im Ausland ein und hilft
  den Geflüchteten zu mehr Lebensqualität und besserer Hygiene und
  Gesundheit. Vielen Dank für Ihre Spenden.\n\nFür den
  Flüchtlingssonntag stellt das HEKS auch Gottesdienstbausteine und
  Informationsmaterial zur Verfügung. Das HEKS engagiert sich seit 75
  Jahren für Flüchtlinge und MigrantInnen in der Schweiz und weltweit.
 \nhttps://www.heks.ch/fluechtlingssonntag
 \nhttps://www.evref.ch/themen/migration/fluechtlingssonntag/\n\nGerne
  weisen wir Sie auch auf einen eindrücklichen Film hin\, der das Leben
  von geflüchteten Landarbeiterinnen und -arbeitern in Süditalien zeigt
  und deren Schicksal mit der Jesus-geschichte künstlerisch verbindet. Es
  ist der Film «Das Neue Evangelium» des Schweizer Regisseurs Milo Rau.
  Weitere Informationen zum Film und zu den Spielorten finden Sie unter
  home. \n\nDiese gemeinsame Gottesdienstkollekte wird über die
  Zentralkasse überwiesen mit dem Vermerk der Kollektennummer (K 9811) auf
  Postkonto PC 82-447-5\, IBAN CH33 0900 0000 8200 0447 5 \n
 \nhttp://www.ref-sh.ch/kollektenplan\n\nKontakt: Doris Brodbeck\n\nWeitere
  Infos: https://www.ref-sh.ch/veranstaltung/183005
SUMMARY:Kollekte: Flüchtlingssonntag
PRIORITY:5
X-MICROSOFT-CDO-IMPORTANCE:1
CLASS:PUBLIC
END:VEVENT
END:VCALENDAR
