BEGIN:VCALENDAR
PRODID:-//kirchenweb.ch gmbh//veranstaltungsausgabe v2.0//DE
VERSION:2.0
METHOD:PUBLISH
BEGIN:VEVENT
DTSTART;VALUE=DATE:20260510
DTEND;VALUE=DATE:20260511
LOCATION:Kollektenbeschreibung\, \,
TRANSP:OPAQUE
SEQUENCE:0
UID:183003-veranstaltung@ref-sh.ch
DTSTAMP:20260102T112701Z
DESCRIPTION:Evangelische Frauen Schaffhausen (K 9809)	\n\nDie
  Evangelischen Frauen Schaffhausen bilden ein Netzwerk von Frauen in
  unserer Region und bieten Anlässe zu anregenden Themen an\, die für
  alle offen sind. Mit der Kollekte unterstützen die Evangelischen Frauen
  auch junge Mütter in schwierigen Lebenssituationen\, die sich von der
  Beratungsstelle für Partnerschaft und Schwangerschaft beraten lassen.\n
 \nhttp://www.ef-sh.ch\n\nDiese gemeinsame Gottesdienstkollekte wird über
  die Zentralkasse überwiesen mit dem Vermerk der Kollektennummer (K 9809)
  auf Postkonto PC 82-447-5\, IBAN CH33 0900 0000 8200 0447 5\n
 \nhttp://www.ref-sh.ch/kollektenplan\n\nKontakt: Doris Brodbeck\n\nWeitere
  Infos: https://www.ref-sh.ch/veranstaltung/183003
SUMMARY:Muttertagskollekte: Evangelische Frauen Schaffhausen
PRIORITY:5
X-MICROSOFT-CDO-IMPORTANCE:1
CLASS:PUBLIC
END:VEVENT
END:VCALENDAR
