BEGIN:VCALENDAR
PRODID:-//kirchenweb.ch gmbh//veranstaltungsausgabe v2.0//DE
VERSION:2.0
METHOD:PUBLISH
BEGIN:VEVENT
DTSTART;VALUE=DATE:20250806
DTEND;VALUE=DATE:20250807
LOCATION:Steigsaal\, Nordstrasse 33\, 8200 Schaffhausen
TRANSP:OPAQUE
SEQUENCE:0
UID:182943-veranstaltung@ref-sh.ch
DTSTAMP:20250616T140327Z
DESCRIPTION:Kontakt: Katrin von Arx\n\nWeitere Infos:
  https://www.ref-sh.ch/veranstaltung/182943
SUMMARY:Mittwochs-Café: Sommerpause
PRIORITY:5
X-MICROSOFT-CDO-IMPORTANCE:1
CLASS:PUBLIC
END:VEVENT
END:VCALENDAR
