BEGIN:VCALENDAR
PRODID:-//kirchenweb.ch gmbh//veranstaltungsausgabe v2.0//DE
VERSION:2.0
METHOD:PUBLISH
BEGIN:VEVENT
DTSTART:20250911T170000Z
DTEND:20250911T190000Z
LOCATION:Zwinglikirche\, Hochstrasse 202\, 8200 Schaffhausen
TRANSP:OPAQUE
SEQUENCE:0
UID:182767-veranstaltung@ref-sh.ch
DTSTAMP:20250911T153002Z
DESCRIPTION:Vortrag: „Menschlich leben in unmenschlicheren Zeiten.“
 \nAlbert Schweitzers Ethik der Ehrfurcht vor dem Leben und heutige
  Herausforderungen. Referent:\nDr.Thomas Bornhauser\, Autor\,
  Erwachsenenbilder und Mitglied des Stiftungsrates des Albert
  Schweitzer-Werkes\n\n- Eintritt frei -\n\nKontakt: Ute Nürnberg\n
 \nWeitere Infos: https://www.ref-sh.ch/veranstaltung/182767
SUMMARY:150 Jahre Albert Schweitzer: Vortrag
PRIORITY:5
X-MICROSOFT-CDO-IMPORTANCE:1
CLASS:PUBLIC
END:VEVENT
END:VCALENDAR
