BEGIN:VCALENDAR
PRODID:-//kirchenweb.ch gmbh//veranstaltungsausgabe v2.0//DE
VERSION:2.0
METHOD:PUBLISH
BEGIN:VEVENT
DTSTART:20260213T230000Z
DTEND:20260214T225900Z
LOCATION:CEVI-Zentrum Wartburg\, \,
TRANSP:OPAQUE
SEQUENCE:0
UID:182738-veranstaltung@ref-sh.ch
DTSTAMP:20260108T111006Z
DESCRIPTION:Wir fahren ins JK-Weekend 2026! Details folgen.\n\nKontakt:
  Valentin Huber\, Kloster 3\, 8224 Löhningen\, valentin.huber@ref-sh.ch\,
  076 505 34 41\n\nWeitere Infos:
  https://www.ref-sh.ch/veranstaltung/182738
SUMMARY:JKK-Weekend 2026
PRIORITY:5
X-MICROSOFT-CDO-IMPORTANCE:1
CLASS:PUBLIC
END:VEVENT
END:VCALENDAR
