BEGIN:VCALENDAR
PRODID:-//kirchenweb.ch gmbh//veranstaltungsausgabe v2.0//DE
VERSION:2.0
METHOD:PUBLISH
BEGIN:VEVENT
DTSTART:20250918T141500Z
DTEND:20250918T160000Z
LOCATION:Steigkirche\, Nordstrasse 33\, 8200 Schaffhausen
TRANSP:OPAQUE
SEQUENCE:0
UID:182713-veranstaltung@ref-sh.ch
DTSTAMP:20250908T122654Z
DESCRIPTION:Gemeinsam mit den Kleinsten feiern wir Gottesdienst. Die
  Kinder im Alter von 2 bis 6 Jahren werden von den Eltern oder einer
  anderen Bezugsperson begleitet. 16.15 - 17 Uhr\, open end bis ca. 18 Uhr
 \n\nKontakt: Pfrn.Claudia Henne\n\nWeitere Infos:
  https://www.ref-sh.ch/veranstaltung/182713
SUMMARY:Fiire mit de Chliine
PRIORITY:5
X-MICROSOFT-CDO-IMPORTANCE:1
CLASS:PUBLIC
END:VEVENT
END:VCALENDAR
