BEGIN:VCALENDAR
PRODID:-//kirchenweb.ch gmbh//veranstaltungsausgabe v2.0//DE
VERSION:2.0
METHOD:PUBLISH
BEGIN:VEVENT
DTSTART:20250508T170000Z
DTEND:20250508T200000Z
LOCATION:Pfarrhaussaal\, Im Chloster 1\, 8214 Gächlingen
TRANSP:OPAQUE
SEQUENCE:0
UID:182453-veranstaltung@ref-sh.ch
DTSTAMP:20250507T074819Z
DESCRIPTION:Unsere Kirchgemeinde steht in den Vorbereitungen für die Zeit
  nach  Pensionierung unseres Pfarrehepaars. Wir gehen davon aus\, dass wir
  ab  2029 eine Pfarrperson haben\, die für 25%  angestellt sein wird und
  nicht im Dorf wohnt. \nUm  dann als Kirchgemeinde funktionieren zu
  können\,  befassen wir uns schon jetzt mit unseren  Möglichkeiten. Wir
  möchten alle Interessierten zu  einem Diskussionsabend\, zum Thema «Was
  sind  die Grundaufgaben der Kirchgemeinde (KG) und  wie können wir diese
  reorganisieren?» einladen. Es ist uns wichtig\, dass  die
  Kirchgemeindemitglieder zu Wort kommen\, um eine Form zu finden die  uns
  als KG Gächlingen entspricht. \nEs sind alle herzlich eingeladen ins
  Pfarrhaus – auch wenn Sie bis jetzt nicht viel mit  der Kirche oder den
  Leuten der Kirche zu tun hatten\, aber Ansprüche an  die
  Zukunftsgestaltung der Kirchgemeinde Gächlingen haben\, bitten wir Sie 
  teilzunehmen. \nPhilippe Niklaus\, Kirchenstandspräsident \n\n\nKontakt:
  Werner Näf \n\nWeitere Infos: https://www.ref-sh.ch/veranstaltung/182453
SUMMARY:1. Themenabend Gächlinger Netzwerkkirche
PRIORITY:5
X-MICROSOFT-CDO-IMPORTANCE:1
CLASS:PUBLIC
END:VEVENT
END:VCALENDAR
