BEGIN:VCALENDAR
PRODID:-//kirchenweb.ch gmbh//veranstaltungsausgabe v2.0//DE
VERSION:2.0
METHOD:PUBLISH
BEGIN:VEVENT
DTSTART:20250601T073000Z
DTEND:20250601T083000Z
LOCATION:Ref. Kirche\, Zentralstrasse 22\, 8212 Neuhausen
TRANSP:OPAQUE
SEQUENCE:0
UID:182352-veranstaltung@ref-sh.ch
DTSTAMP:20250402T153015Z
DESCRIPTION:Kontakt: Pfrn. Nyree Heckmann\n\nWeitere Infos:
  https://www.ref-sh.ch/veranstaltung/182352
SUMMARY:Guter Gedanke anschl. Chilekafi
PRIORITY:5
X-MICROSOFT-CDO-IMPORTANCE:1
CLASS:PUBLIC
END:VEVENT
END:VCALENDAR
