BEGIN:VCALENDAR
PRODID:-//kirchenweb.ch gmbh//veranstaltungsausgabe v2.0//DE
VERSION:2.0
METHOD:PUBLISH
BEGIN:VEVENT
DTSTART:20251031T171500Z
DTEND:20251031T200000Z
LOCATION:Reformierte Kirche Thayngen\, Kirchplatz 2\, 8240 Thayngen
TRANSP:OPAQUE
SEQUENCE:0
UID:182339-veranstaltung@ref-sh.ch
DTSTAMP:20250510T153021Z
DESCRIPTION:Back to the roots - Thayngen vor 500 Jahren\n\nKontakt: Simone
  Wanner\n\nWeitere Infos: https://www.ref-sh.ch/veranstaltung/182339
SUMMARY:IEC - immer etwas Cooles
PRIORITY:5
X-MICROSOFT-CDO-IMPORTANCE:1
CLASS:PUBLIC
END:VEVENT
END:VCALENDAR
