BEGIN:VCALENDAR
PRODID:-//kirchenweb.ch gmbh//veranstaltungsausgabe v2.0//DE
VERSION:2.0
METHOD:PUBLISH
BEGIN:VEVENT
DTSTART:20250919T161500Z
DTEND:20250919T215900Z
LOCATION:Reformierte Kirche Thayngen\, Kirchplatz 2\, 8240 Thayngen
TRANSP:OPAQUE
SEQUENCE:0
UID:182338-veranstaltung@ref-sh.ch
DTSTAMP:20250910T075819Z
DESCRIPTION:Übernachtung im Zelt. Wir geniessen den Abend Outdoor\, bauen
  Zelte auf\, Essen zusammen und verbringen eine gemütliche Zeit. \nAm
  Morgen essen wir gemeinsam Zmorge. Um 10 Uhr ist der IEC fertig.\nDu
  kannst aber auch ohne Schlafen den IEC Abend mit uns verbringen.
 \nhttps://www.ref-sh.ch/kg/thayngen-opfertshofen/bericht/11065\n\nKontakt:
  Martina Winzeler\n\nWeitere Infos:
  https://www.ref-sh.ch/veranstaltung/182338
SUMMARY:IEC - immer etwas Cooles
PRIORITY:5
X-MICROSOFT-CDO-IMPORTANCE:1
CLASS:PUBLIC
END:VEVENT
END:VCALENDAR
