BEGIN:VCALENDAR
PRODID:-//kirchenweb.ch gmbh//veranstaltungsausgabe v2.0//DE
VERSION:2.0
METHOD:PUBLISH
BEGIN:VEVENT
DTSTART:20250506T170000Z
DTEND:20250506T183000Z
LOCATION:Kirche\, Kirchstrasse 8\, 8214 Gächlingen
TRANSP:OPAQUE
SEQUENCE:0
UID:182327-veranstaltung@ref-sh.ch
DTSTAMP:20250516T161643Z
DESCRIPTION:Worte aus der Bibel können berühren beim Zuhören. Oder:
  äh\, was war das jetzt? (Antwort: unverständlich\, zu schnell gelesen\,
  falsch betont\, leise). Wir lernen und üben\, einen Bibeltext zum Leben
  zu erwecken. Wie geht das ohne Mikrophon - und wie mit? Was hat mein
  Sprechtempo mit der Anzahl der Zuhörenden zu tun? \n\nInput und
  Beispiele Werner Näf\, Übungsgruppen Lukas Huber\n
 \nVertiefungsworkshops sind dazu da\, was jemand schon macht\, zu
  vertiefen und gemeinsam zu üben. Wer bei den entsprechenden Aufgaben
  einsteigen möchte\, kann auch hereinschnuppern.\nKeine Anmeldung nötig
 \n\nhttps://www.ref-sh.ch/kg/gaechlingen/vertiefungsworkshops-gottesdienst
 \n\nKontakt: werner.naef@ref-sh.ch\n\nWeitere Infos:
  https://www.ref-sh.ch/veranstaltung/182327
SUMMARY:Vertiefungsworkshop Gottesdienst I - Texte lebendig machen
PRIORITY:5
X-MICROSOFT-CDO-IMPORTANCE:1
CLASS:PUBLIC
END:VEVENT
END:VCALENDAR
