BEGIN:VCALENDAR
PRODID:-//kirchenweb.ch gmbh//veranstaltungsausgabe v2.0//DE
VERSION:2.0
METHOD:PUBLISH
BEGIN:VEVENT
DTSTART:20250911T123000Z
DTEND:20250911T150000Z
LOCATION:Ochseschüür\, Pfrundhausgasse 3\, 8200 Schaffhausen
TRANSP:OPAQUE
SEQUENCE:0
UID:182006-veranstaltung@ref-sh.ch
DTSTAMP:20250731T085340Z
DESCRIPTION:Referentin: Monika Lacher\, Schweizerisches Rotes Kreuz\,
  Sektion Schaffhausen\n\nPatientenverfügung einfach erklärt!\nFür
  ältere Menschen mit und ohne Migrationsbiografie\nIn der Schweiz können
  Patientinnen und Patienten medizinischen Massnahmen zustimmen oder sie
  ablehnen\, solange sie urteilsfähig sind. Mit einer Patientenverfügung
  kann man im Voraus festlegen\, welche Behandlungen man möchte und welche
  nicht\, falls man später nicht mehr selbst entscheiden kann. Die
  Referentin Monika Lacher vom Schweizerischen Roten Kreuz Schaffhausen
  erklärt in einfachen Worten\, wie man dabei vorgehen und worauf man
  achten sollte. Dies ist ein Angebot von HEKS Alter und Migration AltuM.\n
 \nKontakt: doris.brodbeck@ref-sh.ch\n\nWeitere Infos:
  https://www.ref-sh.ch/veranstaltung/182006
SUMMARY:Patientenverfügung einfach erklärt!
PRIORITY:5
X-MICROSOFT-CDO-IMPORTANCE:1
CLASS:PUBLIC
END:VEVENT
END:VCALENDAR
