BEGIN:VCALENDAR
PRODID:-//kirchenweb.ch gmbh//veranstaltungsausgabe v2.0//DE
VERSION:2.0
METHOD:PUBLISH
BEGIN:VEVENT
DTSTART:20250523T160000Z
DTEND:20250523T213000Z
LOCATION:Kirche Buchthalen\, Windeggstrasse 1\, 8203 Schaffhausen
TRANSP:OPAQUE
SEQUENCE:0
UID:182003-veranstaltung@ref-sh.ch
DTSTAMP:20250519T080601Z
DESCRIPTION:"Die Dämmerung holt die Sichel aus der Dunkelheit..."\n\nDie
  drei Schaffhauser Landeskirchen beteiligen sich an der
  gesamtschweizerischen ökumenischen Aktion «Lange Nacht der Kirchen»\,
  die am 23.Mai 2025 stattfindet. \n\nObwohl unsere schmucke Buchthaler
  Kirche etwas peripher gelegen ist\, wollen auch wir sie in an diesem
  Abend geöffnet lassen. \nAb 18 Uhr bis Mitternacht steht die Türe
  offen\, es brennen Kerzen\, jemand ist da\, wenn Sie reden wollen. Aber
  Sie können auch einfach nur diese besondere Atmosphäre geniessen\, die
  nachts unsere Kirche erfüllt. \nZu jeder vollen Stunde erwartet sie eine
  kleine besinnliche Intervention zum Thema «Abend und Nacht»\n
 \nInformationen allgemein finden Sie unter:\nwww.langenachtderkirchen.ch\n
 \n\nKontakt: Pfr. Daniel Müller\n\nWeitere Infos:
  https://www.ref-sh.ch/veranstaltung/182003
SUMMARY:Lange Nacht der Kirchen
PRIORITY:5
X-MICROSOFT-CDO-IMPORTANCE:1
CLASS:PUBLIC
END:VEVENT
END:VCALENDAR
