BEGIN:VCALENDAR
PRODID:-//kirchenweb.ch gmbh//veranstaltungsausgabe v2.0//DE
VERSION:2.0
METHOD:PUBLISH
BEGIN:VEVENT
DTSTART:20250424T110000Z
DTEND:20250424T120000Z
LOCATION:Wir fahren nach Hergiswil\, \,
TRANSP:OPAQUE
SEQUENCE:0
UID:181755-veranstaltung@ref-sh.ch
DTSTAMP:20250318T163655Z
DESCRIPTION:Abfahrt Rüdlingen Brückenwaage 1300h\nRüdlingen
  Begegnungszentrum 1305h\nRüdlingen Steinenkreuz 1310h\nBuchberg Volg
  1315h\n\nAnmeldungen bis spätestens Sonntag\, 7. April 2025\nPer Post
  mit Anmeldetalon an Simone Ackermann\nDorfstrasse 28\n8454 Buchberg
 \nTelefonisch / SMS / WhatsApp 079 217 97 48\nPer Mail
  http://s.ah@bluewin.ch\n\n\nDie Hinfahrt führt uns auf direktem Weg
  über Bülach und den Westring zur Glasi Hergiswil. Dort werden wir
  zuerst gemeinsam eine kurze Führung im Museum machen\, Dauer ca. 20
  Minuten. Danach können Sie individuell die weiteren Ausstellungen und
  den Glasi-Shop besuchen oder in der Glasi-Bar direkt am See\, im
  Glasi-Café an der Strasse oder im Glasi-Restaurant Adler einkehren.\n
 \nDie Rückfahrt\, Abfahrt um 1630h\, führt uns wieder auf direktem Weg
  via Westring und Bülach nach Buchberg und Rüdlingen.\n\nPreis pro
  Person CHF 30.00 (Carfahrt und Eintritt Museum)\n\n\nKontakt: Simone
  Ackermann\n\nWeitere Infos: https://www.ref-sh.ch/veranstaltung/181755
SUMMARY:Halbtagesausflug für Seniorinnen und Senioren
PRIORITY:5
X-MICROSOFT-CDO-IMPORTANCE:1
CLASS:PUBLIC
END:VEVENT
END:VCALENDAR
