BEGIN:VCALENDAR
PRODID:-//kirchenweb.ch gmbh//veranstaltungsausgabe v2.0//DE
VERSION:2.0
METHOD:PUBLISH
BEGIN:VEVENT
DTSTART:20261110T173000Z
DTEND:20261110T203000Z
LOCATION:WAGI-Haus\, Wagenstrasse 10\, 8200 Schaffhausen
TRANSP:OPAQUE
SEQUENCE:0
UID:181752-veranstaltung@ref-sh.ch
DTSTAMP:20251204T073213Z
DESCRIPTION:Erste Hilfe nach Unfällen zu leisten\, wird in unserer
  Gesellschaft als eine selbstverständliche Aufgabe angesehen. Doch wie
  helfen wir Menschen\, deren Lebensende gekommen ist?\n\nIn diesem Letzte
  Hilfe Kurs lernen Interessierte\, was sie für die ihnen Nahestehenden am
  Ende des Lebens tun können.\n\nWir möchten Grundwissen an die Hand
  geben und ermutigen\, sich Sterbenden zuzuwenden. Wir vermitteln in
  diesem kompakten Kurs Basiswissen\, Orientierungen und einfache
  Handgriffe.\n\nDer Kurs ist kostenlos. Es müssen beide Abende (3.11. und
  10.11.) besucht werden.\n\nKursleitung: Barbara Piccolin (Lehrerin für
  Krankenpflege) und Beat Frefel (Seelsorger)\n\nAnmeldung:\nBeat Frefel\,
  Dorfstrasse 2\, 8454 Buchberg\, https://beat.frefel@ref-sh.ch\, 044 867
  05 18\n\nAnmeldeschluss: 27.10.2026\n\n\nKontakt: Beat Frefel\, Barbara
  Piccolin\n\nWeitere Infos: https://www.ref-sh.ch/veranstaltung/181752
SUMMARY:Letzte Hilfe Kurs Teil 2
PRIORITY:5
X-MICROSOFT-CDO-IMPORTANCE:1
CLASS:PUBLIC
END:VEVENT
END:VCALENDAR
