BEGIN:VCALENDAR
PRODID:-//kirchenweb.ch gmbh//veranstaltungsausgabe v2.0//DE
VERSION:2.0
METHOD:PUBLISH
BEGIN:VEVENT
DTSTART:20261112T071500Z
DTEND:20261112T140000Z
LOCATION:Ort noch offen\, \,
TRANSP:OPAQUE
SEQUENCE:0
UID:181651-veranstaltung@ref-sh.ch
DTSTAMP:20251111T113745Z
DESCRIPTION:Kontakt: Pfr. Peter Vogelsanger\n\nWeitere Infos:
  https://www.ref-sh.ch/veranstaltung/181651
SUMMARY:Konvent\, Martini (diesen Eintrag löschen)
PRIORITY:5
X-MICROSOFT-CDO-IMPORTANCE:1
CLASS:PUBLIC
END:VEVENT
END:VCALENDAR
