BEGIN:VCALENDAR
PRODID:-//kirchenweb.ch gmbh//veranstaltungsausgabe v2.0//DE
VERSION:2.0
METHOD:PUBLISH
BEGIN:VEVENT
DTSTART:20260819T140000Z
DTEND:20260819T200000Z
LOCATION:Ort noch offen\, \,
TRANSP:OPAQUE
SEQUENCE:0
UID:181649-veranstaltung@ref-sh.ch
DTSTAMP:20250305T122911Z
DESCRIPTION:Kontakt: Pfr. Peter Vogelsanger\n\nWeitere Infos:
  https://www.ref-sh.ch/veranstaltung/181649
SUMMARY:Konvent: Ausflug
PRIORITY:5
X-MICROSOFT-CDO-IMPORTANCE:1
CLASS:PUBLIC
END:VEVENT
END:VCALENDAR
