BEGIN:VCALENDAR
PRODID:-//kirchenweb.ch gmbh//veranstaltungsausgabe v2.0//DE
VERSION:2.0
METHOD:PUBLISH
BEGIN:VEVENT
DTSTART:20260920T063000Z
DTEND:20260920T080000Z
LOCATION:St.Johann\, \,
TRANSP:OPAQUE
SEQUENCE:0
UID:180473-veranstaltung@ref-sh.ch
DTSTAMP:20250217T153813Z
DESCRIPTION:Kontakt: Ute\nPfarrerin Ute Nürnberg\n\nWeitere Infos:
  https://www.ref-sh.ch/veranstaltung/180473
SUMMARY:Vorproben Chor
PRIORITY:5
X-MICROSOFT-CDO-IMPORTANCE:1
CLASS:PUBLIC
END:VEVENT
END:VCALENDAR
