BEGIN:VCALENDAR
PRODID:-//kirchenweb.ch gmbh//veranstaltungsausgabe v2.0//DE
VERSION:2.0
METHOD:PUBLISH
BEGIN:VEVENT
DTSTART:20251025T123000Z
DTEND:20251025T133000Z
LOCATION:Kirche\, \,  Buchberg-Rüdlingen
TRANSP:OPAQUE
SEQUENCE:0
UID:180293-veranstaltung@ref-sh.ch
DTSTAMP:20251009T062705Z
DESCRIPTION:Tante Carmen erzählt eine bunte Wintergeschichte zum
  Träumen: über die Magie des Winters\, von kleinen Alltagswundern im
  Schnee\, von Tieren und Freundschaften\, von Natur\, Eisblumen und
  Schnee-Engel. Zum Mitsingen und Mittanzen - ein fröhliches Erlebnis für
  Gross und Klein.\n\nFoyerbistro geöffnet ab 14 Uhr\nBeginn 14.30 Uhr
 \nEintritt Fr. 8.-\n\nInfos | Kontakt | Reservationen\n\nE-Mail: 
 \nHompepage:https://www.kulturfoyer.ch/anlässe\n\nKontakt:
  barbara.erdmann@ref-sh.ch\n\nWeitere Infos:
  https://www.ref-sh.ch/veranstaltung/180293
SUMMARY:Kulturfoyer: Winterzauber mit de Tante Carmen
PRIORITY:5
X-MICROSOFT-CDO-IMPORTANCE:1
CLASS:PUBLIC
END:VEVENT
END:VCALENDAR
