BEGIN:VCALENDAR
PRODID:-//kirchenweb.ch gmbh//veranstaltungsausgabe v2.0//DE
VERSION:2.0
METHOD:PUBLISH
BEGIN:VEVENT
DTSTART:20261206T150000Z
DTEND:20261206T170000Z
LOCATION:Bergkirche Neunkirch\, Oberwiesstr. 20\, 8213 Neunkirch
TRANSP:OPAQUE
SEQUENCE:0
UID:180257-veranstaltung@ref-sh.ch
DTSTAMP:20260205T121836Z
DESCRIPTION:Kontakt: Gabriela Mettler\n079 471 64 01\n\nWeitere Infos:
  https://www.ref-sh.ch/veranstaltung/180257
SUMMARY:Konzert Chläggimusikanten
PRIORITY:5
X-MICROSOFT-CDO-IMPORTANCE:1
CLASS:PUBLIC
END:VEVENT
END:VCALENDAR
