BEGIN:VCALENDAR
PRODID:-//kirchenweb.ch gmbh//veranstaltungsausgabe v2.0//DE
VERSION:2.0
METHOD:PUBLISH
BEGIN:VEVENT
DTSTART;VALUE=DATE:20250615
DTEND;VALUE=DATE:20250616
LOCATION:Kloster St. Peter Bludenz \, \,
TRANSP:OPAQUE
SEQUENCE:0
UID:180010-veranstaltung@ref-sh.ch
DTSTAMP:20250611T212657Z
DESCRIPTION:Vor Dir steht die leere Schale meiner Sehnsucht.\nGertrud von
  Helfta\n\nWas diese Auszeit beinhaltet\nWir hören Impulse\, die uns zum
  Nach- und Neudenken\, Reflektieren und Austauschen anregen. Daneben
  bleibt viel Zeit für sich\, die entweder in der Stille\, in der
  Gemeinschaft\, auf einem Spaziergang\, etc. verbracht werden kann. \nDie
  Mahlzeiten und Tischgebete mit den Dominikanerinnen prägen dieses
  Wochenende. Als freiwilliges Angebot besteht die Möglichkeit an den
  Tagesgebeten teilzunehmen. \n\n\n Thema der täglichen Impulse\nGott ist
  die Liebe. Diese Liebe ist es\, die mich zu den Quellen meines Lebens
  führen möchte. In unseren Herzen pulsiert eine tiefe Sehnsucht nach
  bedingungsloser Liebe\, nach unerschütterlichem Glauben\, nach
  durchtragender Hoffnung. \nIn der freundschaftlichen Weggemeinschaft mit
  Gott begegnen sich Seine Sehnsucht nach mir und meine Sehnsucht nach Ihm.
  Aus dieser Begegnung kann sich in meinem Leben eine schöpferische\,
  segensreiche und heilsame Kraft entfalten. Gott selbst füllt die leere
  Schale meiner Sehnsucht. \nIn den Impulsen\, in der Stille\, im Gespräch
  und Austausch\, im Singen\, meditativen Tanz und Feiern erkunden wir
  miteinander den Raum der Gottesbegegnung.\n \nReferentin: Cornelia
  Knipping\, MAS Palliative Care und Organisations-Ethik\, Buchautorin\,
  Meditationsbegleiterin i.A.\n\n\nWas diese Tage voraussetzen\nDiese
  Auszeit setzt die Bereitschaft und Offenheit voraus\, sich auf einen
  vielleicht neuen und unbekannten Weg einzulassen. \nWir werden
  beispielsweise das Morgenessen im Schweigen zu uns nehmen und uns entlang
  des klösterlichen Alltags auf neue Inspirationen einlassen.\n\n\nKursort
  und Dauer\nKloster St. Peter\, Sankt-Peter-Straße 45\, 6700 Bludenz\,
  Österreich\n\n1.	Auszeit Wochenende:	12. – 15. Juni 2025\n2.	Auszeit
  Wochenende:	27. – 30. November 2025\n\nAnreise:		Donnerstag\, 15.00 -
  17.00 Uhr\nAbreise:		Sonntag\, ca. 13.30 Uhr\n\nDie Auszeiten können
  einzeln oder zusammen gebucht werden.\n\n\nKurskosten (pro Person)\nIm
  Preis sind das Zimmer mit Vollpension\, Frottée- und Bettwäsche und die
  Kurskosten enthalten. Die Zimmer mit DU/WC auf dem Gang verfügen über
  ein Lavabo im Zimmer. \n\n3 Übernachtungen im EZ\, DU/WC im Zimmer	SFr.
  375.-\n3 Übernachtungen im EZ\, DU/WC auf dem Gang	SFr. 339.-\n3
  Übernachtungen im grossen DZ\, DU/WC im Zimmer	SFr. 360.-\n3
  Übernachtungen im DZ\, DU/WC auf dem Gang	SFr. 309.-\n\n(Anreise
  individuell mit dem Zug oder mit Fahrgemeinschaften)\n\n\n\n\nKontakt:
  Barbara Rohrer Sozialdiakonie\n\nWeitere Infos:
  https://www.ref-sh.ch/veranstaltung/180010
SUMMARY:Auszeit im Kloster 12. - 15. Juni 2025
PRIORITY:5
X-MICROSOFT-CDO-IMPORTANCE:1
CLASS:PUBLIC
END:VEVENT
END:VCALENDAR
