BEGIN:VCALENDAR
PRODID:-//kirchenweb.ch gmbh//veranstaltungsausgabe v2.0//DE
VERSION:2.0
METHOD:PUBLISH
BEGIN:VEVENT
DTSTART;VALUE=DATE:20260608
DTEND;VALUE=DATE:20260609
LOCATION:Zwinglikirche\, Hochstrasse 202\, 8200 Schaffhausen
TRANSP:OPAQUE
SEQUENCE:0
UID:180004-veranstaltung@ref-sh.ch
DTSTAMP:20260326T080108Z
DESCRIPTION:Erlebnisferienwoche in Maurach am Achensee\nvon Montag\, 8.
  Juni - Samstag\, 13. Juni 2026\n\nEine Kombination aus Tiroler
  Gastfreundschaft und italienischer Leidenschaft erwartet Sie im Hotel
  Vier Jahreszeiten in Maurach am Achensee. Das Hotel bietet Erholung für
  Körper und Seele. Ein herrliches Frühstücksbuffet\, ein ausgiebiges
  Wahlmenü abends und einen Wellnessbereich mit Panorama Hallenbad\,
  Whirlpool und Sauna mit Ausblick auf die Bergwelt.\n\nDie ganze Woche
  steht uns ein Chauffeur von der Firma Apfelcar zur Verfügung. Ausflüge
  auf den Hausberg Karwendel oder Rofan\, eine Zillertal Rundfahrt\, die
  Stadt Mayrhofen\, eine Schifffahrt auf dem Achensee oder das Schloss
  Tratzberg\, es gibt viele Möglichkeiten in dieser schönen Region.
 \nMiteinander aktiv und im Gespräch sein\, geniessen\, sich erholen oder
  Zeit für sich haben\, die Programmgestaltung macht vieles möglich. Vor
  dem gemeinsamen Abendessen gibt es jeweils einen Tagesausklang mit
  Gedanken\, Liedern und Geschichten. Wir freuen uns auf die Gemeinschaft
  und das Zusammensein mit Ihnen! \n\nHaben wir Ihr Interesse an dieser
  gemeinsamen Ferienwoche geweckt? Dann besuchen Sie die
  Informationsveranstaltung am Donnerstag\, 19. Februar 2026\, 10 Uhr in
  den Räumlichkeiten der Zwinglikirche. \n\n\nIhr Team: 			\nPfarrerin
  Miriam Gehrke\, Sozialdiakonin Nicole Russenberger \n\nKosten pro Person:
  	\nEinzelzimmer 1300 Franken / Doppelzimmer 1150 Franken pro Person\,
  inkl. Fahrten\, Mittagessen Hin- und Rückreise\, Verwöhn-Halbpension\,
  Ausflüge und Eintritte.\nSollten die Kosten Ihr Budget übersteigen\,
  melden Sie sich bei uns \n\nAnmeldeschluss: 	\nBis am 30. April 2026\n
 \nWeitere Infos und Anmeldung:\nNicole Russenberger\nSozialdiakonin
 \nHochstrasse 202\n8200 Schaffhausen\n052 643 31 68\n078 779 93 71
 \nn.russenberger@kgvsh.ch      \n\n\nKontakt: susanna.weidmann@ref-sh.ch\n
 \nWeitere Infos: https://www.ref-sh.ch/veranstaltung/180004
SUMMARY:Seniorenferien Achensee
PRIORITY:5
X-MICROSOFT-CDO-IMPORTANCE:1
CLASS:PUBLIC
END:VEVENT
END:VCALENDAR
