BEGIN:VCALENDAR
PRODID:-//kirchenweb.ch gmbh//veranstaltungsausgabe v2.0//DE
VERSION:2.0
METHOD:PUBLISH
BEGIN:VEVENT
DTSTART:20260517T080000Z
DTEND:20260517T090000Z
LOCATION:Kirche Löhningen\, Kloster 3\, 8224 Löhningen
TRANSP:OPAQUE
SEQUENCE:0
UID:179925-veranstaltung@ref-sh.ch
DTSTAMP:20260408T191050Z
DESCRIPTION:Konfirmationsgottesdienst für und mit Nico Brändli\, Lukas
  Hunziker und Mia Maier (alle Löhningen). Mit Pfarrer Lukas Huber.\n
 \nAnschliessend Aperitif im Kirchhof.\n\n\nKontakt: Lukas Huber\n\nWeitere
  Infos: https://www.ref-sh.ch/veranstaltung/179925
SUMMARY:Konfirmationsgottesdienst
PRIORITY:5
X-MICROSOFT-CDO-IMPORTANCE:1
CLASS:PUBLIC
END:VEVENT
END:VCALENDAR
