BEGIN:VCALENDAR
PRODID:-//kirchenweb.ch gmbh//veranstaltungsausgabe v2.0//DE
VERSION:2.0
METHOD:PUBLISH
BEGIN:VEVENT
DTSTART:20270116T073000Z
DTEND:20270116T110000Z
LOCATION:Mesmerhuus\, Kloster 14\, 8224 Löhningen
TRANSP:OPAQUE
SEQUENCE:0
UID:179923-veranstaltung@ref-sh.ch
DTSTAMP:20260312T164818Z
DESCRIPTION:Mit Pfarrer Lukas Huber\, Kloster 3\, 8224 Löhningen\,
  lukas.huber@ref-sh.ch\, 079 824 82 24 und Rosina Huber\, Kloster 3\, 8224
  Löhningen\, rosina.huber@ref-sh.ch\, 052 685 32 20.\n\nKontakt: Pfarrer
  Lukas Huber\n\nWeitere Infos: https://www.ref-sh.ch/veranstaltung/179923
SUMMARY:Konf-Unterricht: «Um ihn dreht sich alles: Jesus»
PRIORITY:5
X-MICROSOFT-CDO-IMPORTANCE:1
CLASS:PUBLIC
END:VEVENT
END:VCALENDAR
